BEGIN:VCALENDAR
VERSION:2.0
PRODID:-//DIGITAL FACTORY//EVENTS MAKER V1.6.14//EN
CALSCALE:GREGORIAN
BEGIN:VEVENT
DTEND:20220510T110000Z
UID:69ea54a2872ae
DTSTAMP:20260423T171930Z
CATEGORIES:Growing your organisation
DESCRIPTION:Contrary to poplar belief\, the written word is still going strong\, but the way we\, and our customers\, use websites and digital content has dramatically changed over recent years. In this interactive workshop you’ll learn the importance of crafting relevant\, attention-grabbing and accurate content on your social enterprise’s website and social media channels.    During the session you’ll identify and include critical keywords on your website\, words which match your organisation’s objectives and help with Search Engine Optimisation (SEO). You’ll also be introduced to some of the digital content marketing tools available and how to use them to improve your website’s written content. You’ll learn how to create content which is appealing to your core client base  and also discover tools which will help you monitor the effectiveness of your website.    For you if:      	you will be writing content for your organisation’s website and/or social media   	you supervise or influence your organisation’s online presence   	you want a better understanding of SEO and marketing tools for digital platforms   	you want to create written content which attracts your target client base    Dates:    Tuesday 10th May 2022 - 10.00 am to 12.00 noon    Fee:    This course is fully funded and there is no charge to participants
URL;VALUE=URI:https://staging.justenterprise.org/events/event/writing-for-the-web/
SUMMARY:Writing for the Web
DTSTART:20220510T090000Z
RDATE:20220510T100000Z;
END:VEVENT
END:VCALENDAR
