BEGIN:VCALENDAR
VERSION:2.0
PRODID:-//DIGITAL FACTORY//EVENTS MAKER V1.6.14//EN
CALSCALE:GREGORIAN
BEGIN:VEVENT
DTEND:20211102T123000Z
UID:69ea3f68d0157
DTSTAMP:20260423T154856Z
CATEGORIES:No date\,Start Up
DESCRIPTION:This 2 hour workshop will guide you through user research\, product design and engaging with your beneficiaries and customers via social media platforms. We discuss building a brand in a digital world - use of storytelling in brand and content creation\, examples of social enterprises who got it right\, digital tools and tips for start ups. Content includes:     	What is the problem you are trying to solve?   	How to engage with your audiences (both beneficiaries and customers)\, through which channels and why bother?   	The role of your social media community in testing the design (of your product or service)   	User research\, user journey and testing efficiency of the digital journey   	How do you know it is working? Introduction to analytics and evidence/data   	Signposting to existing workshops and resources - e.g. Digital Boost    Dates:    tbc    Fee:    This course is fully funded and there is no charge to participants    &nbsp\;    You may also be interested in our follow up 'Digital' webinars for start ups:    Digital - Social Media Foundations    Digital - SWOT Analysis for Rural Social Enterprises
URL;VALUE=URI:https://staging.justenterprise.org/events/event/start-up-workshop-digital/
SUMMARY:Start Up Workshop - Digital Ways of Working
DTSTART:20211102T103000Z
RDATE:20211102T103000Z;
END:VEVENT
END:VCALENDAR
