BEGIN:VCALENDAR
VERSION:2.0
PRODID:-//DIGITAL FACTORY//EVENTS MAKER V1.6.14//EN
CALSCALE:GREGORIAN
BEGIN:VEVENT
DTEND:20220214T150000Z
UID:69ea3f99ed034
DTSTAMP:20260423T154945Z
CATEGORIES:No date
DESCRIPTION:This webinar explores the challenges and opportunities\, the ethos and collective leadership of rural social enterprise\, including:     	Impact as USP   	Collaboration between sectors and communities   	Role in capacity building   	Blended approach to finance    Duration: Up to 60 mins    For you if:    You are at the early stages of setting up a rural social enterprise    Dates    Monday 14th February 2022 - 2:00 pm to 3:00 pm    Fee:    This course is fully funded and there is no charge to participants  Book your place below or find out more about other support available including one to one advice here
URL;VALUE=URI:https://staging.justenterprise.org/events/event/start-up-webinar-swot-analysis/
SUMMARY:Start Up Webinar : SWOT Analysis for Rural Social Enterprise
DTSTART:20220214T140000Z
RDATE:20220214T140000Z;
END:VEVENT
END:VCALENDAR
