BEGIN:VCALENDAR
VERSION:2.0
PRODID:-//DIGITAL FACTORY//EVENTS MAKER V1.6.14//EN
CALSCALE:GREGORIAN
BEGIN:VEVENT
DTEND:20220302T170535Z
UID:69ea40f312c34
DTSTAMP:20260423T155531Z
CATEGORIES:No date\,Start Up
DESCRIPTION:You have completed a Cashflow “Forecast” for your Business Plan\, but is that its only use?  Can the Cashflow become your most valued planning tool as your business evolves?  This short Webinar will begin to look at ways of “playing” with figures\; dreaming of expansion\; calculating timescales and demonstrating that being in control of your social enterprise means being on top of your Cashflow.    Dates    tbc    Fee:    This course is fully funded and there is no charge to participants  Book your place below or find out more about other support available including one to one advice here
URL;VALUE=URI:https://staging.justenterprise.org/events/event/start-up-webinar-review-your-cashflow/
SUMMARY:Start Up Webinar : Review Your Cashflow
DTSTART:20220302T170535Z
RDATE:20220302T170535Z;
END:VEVENT
END:VCALENDAR
