BEGIN:VCALENDAR
VERSION:2.0
PRODID:-//DIGITAL FACTORY//EVENTS MAKER V1.6.14//EN
CALSCALE:GREGORIAN
BEGIN:VEVENT
DTEND:20211111T150000Z
UID:69ea42a6b755d
DTSTAMP:20260423T160246Z
CATEGORIES:No date\,Start Up
DESCRIPTION:Being clear on your social mission is crucial. This webinar will explain how to identify and analyse the need and how your social enterprise responds to that need. Find out how to plan and be clear on the client benefit\, how to communicate your mission and objectives to others\, and how to stay focused on the beneficiaries from the start.    Dates    tbc    Fee:    This course is fully funded and there is no charge to participants  Book your place below or find out more about other support available including one to one advice here
URL;VALUE=URI:https://staging.justenterprise.org/events/event/start-up-webinar-mission_objectives/
SUMMARY:Start Up Webinar : Mission &amp\; Objectives
DTSTART:20211111T140000Z
RDATE:20211111T140000Z;
END:VEVENT
END:VCALENDAR
