BEGIN:VCALENDAR
VERSION:2.0
PRODID:-//DIGITAL FACTORY//EVENTS MAKER V1.6.14//EN
CALSCALE:GREGORIAN
BEGIN:VEVENT
DTEND:20220210T113000Z
UID:69ea3ffc78307
DTSTAMP:20260423T155124Z
CATEGORIES:No date\,Start Up
DESCRIPTION:Are you considering starting up a new social enterprise?    When starting up a social enterprise\, legal terms can be confusing or scary. This webinar session will clarify why you need a Memorandum when establishing a company and provide you with a guide to considering your Articles of Association - your rules for your social enterprise. A soft touch\, non-legal explanation of the importance of "Mem &amp\; Arts"    Dates    TBC    Fee:    This course is fully funded and there is no charge to participants  Book your place below or find out more about other support available including one to one advice here
URL;VALUE=URI:https://staging.justenterprise.org/events/event/start-up-webinar-mem-and-arts/
SUMMARY:Start Up Webinar : Memorandum &amp\; Articles of Association
DTSTART:20220210T103000Z
RDATE:20220210T103000Z;
END:VEVENT
END:VCALENDAR
