BEGIN:VCALENDAR
VERSION:2.0
PRODID:-//DIGITAL FACTORY//EVENTS MAKER V1.6.14//EN
CALSCALE:GREGORIAN
BEGIN:VEVENT
DTEND:20220210T150000Z
UID:69ea40fc5193f
DTSTAMP:20260423T155540Z
CATEGORIES:No date\,Start Up
DESCRIPTION:Are you considering or in the early stages of starting up a new social enterprise?    This webinar will help you to create a realistic marketing plan for your business to help you to increase your sales.    Dates    TBC    Fee:    This course is fully funded and there is no charge to participants  Book your place below or find out more about other support available including one to one advice here
URL;VALUE=URI:https://staging.justenterprise.org/events/event/start-up-webinar-marketing-your-business/
SUMMARY:Start Up Webinar : Marketing Your Business
DTSTART:20220210T140000Z
RDATE:20220210T140000Z;
END:VEVENT
END:VCALENDAR
