BEGIN:VCALENDAR
VERSION:2.0
PRODID:-//DIGITAL FACTORY//EVENTS MAKER V1.6.14//EN
CALSCALE:GREGORIAN
BEGIN:VEVENT
DTEND:20220111T113000Z
UID:69ea4098bfd3b
DTSTAMP:20260423T155400Z
CATEGORIES:No date\,Start Up
DESCRIPTION:Are you considering or in the early stages of starting up a new social enterprise?    When planning your business\, the starting point is to conduct market research to evidence the need (social) and commercial potential (enterprise). Get it right by choosing the right tools and channels. This webinar will help you to:     	Identify your market and customers   	Define the things that make you unique   	Engage with both customers and beneficiaries    Dates    tbc    Fee:    This course is fully funded and there is no charge to participants  Book your place below or find out more about other support available including one to one advice here
URL;VALUE=URI:https://staging.justenterprise.org/events/event/start-up-webinar-market-research/
SUMMARY:Start Up Webinar : Plan Your Market Research
DTSTART:20220111T103000Z
RDATE:20220111T103000Z;
END:VEVENT
END:VCALENDAR
