BEGIN:VCALENDAR
VERSION:2.0
PRODID:-//DIGITAL FACTORY//EVENTS MAKER V1.6.14//EN
CALSCALE:GREGORIAN
BEGIN:VEVENT
DTEND:20220217T150000Z
UID:69ea55e738142
DTSTAMP:20260423T172455Z
CATEGORIES:Start Up
DESCRIPTION:Are you considering or in the early stages of starting up a new social enterprise?    This webinar will help you to understand why market research is important for your business plan and will provide an overview of different market research methods and the tools you can utilise to understand your customers\, identify your competitors and feed into your marketing strategy.    Dates    Thursday 17th February 2022 - 2:00 pm to 3:00 pm    Fee:    This course is fully funded and there is no charge to participants  Book your place below or find out more about other support available including one to one advice here
URL;VALUE=URI:https://staging.justenterprise.org/events/event/start-up-webinar-intro-market-research/
SUMMARY:Start Up Webinar : Introduction to Market Research
DTSTART:20220217T140000Z
RDATE:20220217T140000Z;
END:VEVENT
END:VCALENDAR
