BEGIN:VCALENDAR
VERSION:2.0
PRODID:-//DIGITAL FACTORY//EVENTS MAKER V1.6.14//EN
CALSCALE:GREGORIAN
BEGIN:VEVENT
DTEND:20220216T110000Z
UID:69ea40b3a44d5
DTSTAMP:20260423T155427Z
CATEGORIES:No date\,Start Up
DESCRIPTION:Reduce the fear of cashflow! This introductory webinar will help to clarify how to build your own cashflow when you might not be aware of all the figures you need and outline why a cashflow forecast is essential in any growing social enterprise.    Dates    Wednesday 16th February 2022 - 10:00 am to 11:00 am    Fee:    This course is fully funded and there is no charge to participants  Book your place below or find out more about other support available including one to one advice here
URL;VALUE=URI:https://staging.justenterprise.org/events/event/start-up-webinar-finance-cashflow/
SUMMARY:Start Up Webinar : Build a Cashflow
DTSTART:20220216T100000Z
RDATE:20220216T100000Z;
END:VEVENT
END:VCALENDAR
