BEGIN:VCALENDAR
VERSION:2.0
PRODID:-//DIGITAL FACTORY//EVENTS MAKER V1.6.14//EN
CALSCALE:GREGORIAN
BEGIN:VEVENT
DTEND:20220209T110000Z
UID:69ea40a3b0449
DTSTAMP:20260423T155411Z
CATEGORIES:No date\,Start Up
DESCRIPTION:The process of book keeping can be as simple or as detailed as you need it to be. This session introduces simple models to enable you to easily monitor/log the expenditure of your social enterprise while highlighting how effective book-keeping can save you money.    Dates    TBC    Fee:    This course is fully funded and there is no charge to participants  Book your place below or find out more about other support available including one to one advice here
URL;VALUE=URI:https://staging.justenterprise.org/events/event/start-up-webinar-finance-book-keeping/
SUMMARY:Start Up Webinar : Book Keeping
DTSTART:20220209T100000Z
RDATE:20220209T100000Z;
END:VEVENT
END:VCALENDAR
