BEGIN:VCALENDAR
VERSION:2.0
PRODID:-//DIGITAL FACTORY//EVENTS MAKER V1.6.14//EN
CALSCALE:GREGORIAN
BEGIN:VEVENT
DTEND:20220321T133000Z
UID:69ea3fcc6e96a
DTSTAMP:20260423T155036Z
CATEGORIES:Start Up
DESCRIPTION:Are you considering starting up a new social enterprise?    If you are considering setting up a charity this 1 hour introductory webinar will help you better understand:     	"The Charity Test"   	The duties of a Trustee   	Appropriate legal structures - SCIO and Company Limited by Guarantee with Charitable Status    Dates    Monday 21st March 2022 - 12.30 pm to 1.30 pm    Fee:    This course is fully funded and there is no charge to participants  Book your place below or find out more about other support available including one to one advice here
URL;VALUE=URI:https://staging.justenterprise.org/events/event/start-up-webinar-charity/
SUMMARY:Start Up Webinar : Starting a Charity
DTSTART:20220321T123000Z
RDATE:20220321T123000Z;
END:VEVENT
END:VCALENDAR
