BEGIN:VCALENDAR
VERSION:2.0
PRODID:-//DIGITAL FACTORY//EVENTS MAKER V1.6.14//EN
CALSCALE:GREGORIAN
BEGIN:VEVENT
DTEND:20220208T113000Z
UID:69ea3ffc8480f
DTSTAMP:20260423T155124Z
CATEGORIES:No date\,Start Up
DESCRIPTION:Are you considering or in the early stages of starting up a new social enterprise?    This 1 hour webinar takes you through the essential components of a social enterprise\, how those elements fit together and how to consciously design a business that achieves both impact and profit.    Dates    TBC    Fee:    This course is fully funded and there is no charge to participants  Book your place below or find out more about other support available including one to one advice here
URL;VALUE=URI:https://staging.justenterprise.org/events/event/start-up-webinar-business-planning/
SUMMARY:Start Up Webinar : Business Model Canvas &amp\; Business Planning
DTSTART:20220208T103000Z
RDATE:20220208T103000Z;
END:VEVENT
END:VCALENDAR
