BEGIN:VCALENDAR
VERSION:2.0
PRODID:-//DIGITAL FACTORY//EVENTS MAKER V1.6.14//EN
CALSCALE:GREGORIAN
BEGIN:VEVENT
DTEND:20210617T110000Z
UID:69ea316d4205d
DTSTAMP:20260423T144917Z
CATEGORIES:No date\,Start Up
DESCRIPTION:This webinar is designed for those looking to see how they can use social media to further their business. It offers an insight into how to get started using social media as a business tool and provides useful starting point for social entrepreneurs.    The webinar will cover:     	Why consider social media\, the benefits of social media   	How to tell your brand story (through social media)   	Ethical considerations for marketing through social media   	How to discover who your key audience is   	How to create engaging content for your audience.    Duration: 60 mins    For you if:    You are at the early stages of setting up a social enterprise and have limited knowledge of using social media for business    NOT for you if:    You are an existing social enterprise with an established social media presence    Dates    This is a pre-recorded webinar available for you to watch at your leisure.    Fee:    This course is fully funded and there is no charge to participants  Book your place below or find out more about other support available including one to one advice here
URL;VALUE=URI:https://staging.justenterprise.org/events/event/social-media-foundations-for-start-ups/
SUMMARY:Start Up Webinar : Social Media Foundations
DTSTART:20210617T100000Z
RDATE:20210617T110000Z;
END:VEVENT
END:VCALENDAR
