BEGIN:VCALENDAR
VERSION:2.0
PRODID:-//DIGITAL FACTORY//EVENTS MAKER V1.6.14//EN
CALSCALE:GREGORIAN
BEGIN:VEVENT
DTEND:20211214T140000Z
UID:69ea5500b9716
DTSTAMP:20260423T172104Z
CATEGORIES:No date\,Start Up
LOCATION:online 
DESCRIPTION:This workshop looks at both essential angles: social/environmental impact and commercial viability of the business. It's an interactive session which is aimed at early stage social enterprises or early start-ups looking to re-focus their business model. Through a combination of theoretical explanations and practical exercises this course will take you through the main steps of planning &amp\; delivery for social enterprise.    Join this interactive online workshop to find out more!    For you if:      	You’ve got an idea for a social enterprise or have recently started trading and are looking for some structure and guidance on how to balance the commercial and social impact elements of your business idea.    Date:    tbc    Fee:    This workshop is fully funded and there is no charge to participants  Book your place below or find out more about other support available including one to one support here  You may also be interested in our follow up 'Planning' Webinars for start ups:    Planning : Business Model Canvas &amp\; Business Planning    Planning : Mission and Objectives    Planning : Plan Your Market Research    &nbsp\;
URL;VALUE=URI:https://staging.justenterprise.org/events/event/planning-and-delivery/
SUMMARY:Start Up Workshop - Planning
DTSTART:20211214T123000Z
RDATE:20211214T123000Z;
END:VEVENT
END:VCALENDAR
