BEGIN:VCALENDAR
VERSION:2.0
PRODID:-//DIGITAL FACTORY//EVENTS MAKER V1.6.14//EN
CALSCALE:GREGORIAN
BEGIN:VEVENT
DTEND:20220124T153000Z
UID:69ea3d0835624
DTSTAMP:20260423T153848Z
CATEGORIES:No date\,Start Up
LOCATION:online 
DESCRIPTION:When starting up a social enterprise\, legal implications can unfortunately be overlooked with so many other things to consider.    This two hour session will highlight several of the key legal matters common to many social enterprises that will require your consideration prior to and during start up. From which legal structure to adopt\, to licences\, insurances\, employing people\, etc.\, this introduction will help you prioritise your legal requirements.    For you if:      	You are starting a social enterprise and want to know about legal implications    NOT for you if:     	You are looking for legal advice rather than guidance.    Dates    tbc    Fee:    This course is fully funded and there is no charge to participants  Book your place below or find out more about other support available including one to one advice here  You may also be interested in our follow up 'Legal' webinars for start ups:    Legal - Starting a Charity    Legal - Governance    Legal - Mem &amp\; Arts
URL;VALUE=URI:https://staging.justenterprise.org/events/event/legal-structures/
SUMMARY:Start Up Workshop - Legal
DTSTART:20220124T133000Z
RDATE:20220124T133000Z;
END:VEVENT
END:VCALENDAR
