BEGIN:VCALENDAR
VERSION:2.0
PRODID:-//DIGITAL FACTORY//EVENTS MAKER V1.6.14//EN
CALSCALE:GREGORIAN
BEGIN:VEVENT
DTEND:20210527T130000Z
UID:69ea329543123
DTSTAMP:20260423T145413Z
CATEGORIES:No date\,Start Up
DESCRIPTION:If you have an idea for a business as a force for good for the community or the environment\, but do not know where to start\, this webinar is a perfect opportunity to learn a bit more about social enterprise. This webinar explains key considerations when setting up your social enterprise.     	Voluntary Code of Practice for SE in Scotland   	Social and/or environmental impact and how to measure it   	Enterprise- commercial viability and sustainability   	The need for market research and proving the concept (assumptions)    Duration: 60 mins    For you if:    You are at the early stages of setting up a social enterprise or those who are just thinking about it.    NOT for you if:    You have already established your social enterprise    Dates    This is a pre-recorded webinar available for you to watch at your leisure    Fee:    This course is fully funded and there is no charge to participants  Book your place below or find out more about other support available including one to one advice here
URL;VALUE=URI:https://staging.justenterprise.org/events/event/is-social-enterprise-for-you-webinar-for-start-ups/
SUMMARY:Start Up Webinar : Is Social Enterprise for You?
DTSTART:20210527T120000Z
RDATE:20210527T130000Z;
END:VEVENT
END:VCALENDAR
