BEGIN:VCALENDAR
VERSION:2.0
PRODID:-//DIGITAL FACTORY//EVENTS MAKER V1.6.14//EN
CALSCALE:GREGORIAN
BEGIN:VEVENT
DTEND:20220512T113000Z
UID:69ea6007f14df
DTSTAMP:20260423T180807Z
CATEGORIES:Growing your organisation\,No date
DESCRIPTION:This workshop is aimed at third sector organisations with little or no knowledge of public sector tendering and who want to understand the principles and processes involved.    Participants will gain an understanding of public sector procurement and the tendering processes that buyers use\, specifically we will look at\; where to find opportunities\, the terminology and processes involved\, the information you will be asked to provide\, top tips for completing a tender and how to make your bid attractive to a buyer.    We will do this through a mix of presentation\, Group discussion and practical examples.    For you if:      	If you work in a third sector organisation and will be involved in finding tender opportunities and preparing bids   	You have little or no experience of tendering but would like to    Fee:    This course is fully funded and there is no charge to participants    Date:    Thursday 12th May 2022 - 10.00 am to 12.30 pm
URL;VALUE=URI:https://staging.justenterprise.org/events/event/introduction-to-tendering/
SUMMARY:Introduction to Tendering
DTSTART:20220512T090000Z
RDATE:20220512T100000Z;
END:VEVENT
END:VCALENDAR
