BEGIN:VCALENDAR
VERSION:2.0
PRODID:-//DIGITAL FACTORY//EVENTS MAKER V1.6.14//EN
CALSCALE:GREGORIAN
BEGIN:VEVENT
DTEND:20200506
UID:69ea60c2a5d1b
DTSTAMP:20260423T181114Z
CATEGORIES:Growing your organisation\,No date
DESCRIPTION:Modern marketing covers a bewildering array of elements in the full ‘marketing mix’\, but this half-day workshop introduces participants to business promotion through marketing communications. The session will focus on the contribution marketing communications can make to overall business strategy\, and on finding the right elements of marketing communications for your own organisation.     During the workshop delegates will be introduced to a generic marketing communication process. A description of the key components of a marketing communications strategy will be covered\, and we’ll outline a range of communication tools and techniques available to marketers.    For you if:      	you are responsible for marketing and promotional activities but don’t have experience    	you want to understand more about marketing communications    	you want to learn how marketing communications can be used to complement business strategy      Fee:    This course is fully funded and there is no charge to participants
URL;VALUE=URI:https://staging.justenterprise.org/events/event/introduction-to-marketing-communications/
SUMMARY:Introduction to Marketing Communications
DTSTART:20200506
RDATE:20200507T000000Z;
END:VEVENT
END:VCALENDAR
