BEGIN:VCALENDAR
VERSION:2.0
PRODID:-//DIGITAL FACTORY//EVENTS MAKER V1.6.14//EN
CALSCALE:GREGORIAN
BEGIN:VEVENT
DTEND:20220309T120000Z
UID:69ea46cf51b0d
DTSTAMP:20260423T162031Z
CATEGORIES:Growing your organisation
DESCRIPTION:E-Commerce is often touted as an easy solution and the future of business. While it is true that more and more firms are offering their products online\, the perceived financial and reputation risks can be off putting\, particularly in the third sector.    In this introductory level course we will consider the risks and benefits to E-Commerce\, how it might suit your organisation\, and align with your purpose. By the end of the session you should have an greater understanding of whether or not e-commerce is right for your organisation. This course will be delivered ONLINE via Zoom.    For you if:      	You are new to selling online   	You would like to understand the benefits and risks with online trading   	You work or volunteer with a charity or social enterprise    Fee:    This course is fully funded and there is no charge to participants    Dates:    Wednesday 9th March 2022 - 10.00 am to 12.00 pm    OR    Wednesday 4th May 2022 - 10.00 am to 12.00 pm
URL;VALUE=URI:https://staging.justenterprise.org/events/event/introduction-to-ecommerce/
SUMMARY:Introduction to E-Commerce
DTSTART:20220309T100000Z
RDATE:20220309T100000Z;
RDATE:20220504T100000Z;
END:VEVENT
END:VCALENDAR
