BEGIN:VCALENDAR
VERSION:2.0
PRODID:-//DIGITAL FACTORY//EVENTS MAKER V1.6.14//EN
CALSCALE:GREGORIAN
BEGIN:VEVENT
DTEND:20220406T150000Z
UID:69ea4a9a07196
DTSTAMP:20260423T163642Z
CATEGORIES:Growing your organisation\,Strengthening Your Organisation
LOCATION:online 
DESCRIPTION:They say there’s no such thing as a bad idea\, but when it comes to running a successful social enterprise\, creative thinking alone is not enough to ensure success. In this Just Enterprise Introduction to Business Planning workshop\, you’ll learn why the preparation of a proper business plan is essential if you want to develop your bright social enterprise idea\, or move on to the next level.     This comprehensive workshop will introduce you to the four key stages involved in developing a business plan:     	where your organisation is now   	where you want it to be in the months and years ahead    	what needs to be done to reach those goals   	how you will know when you get there    During the session you will also learn some of the tools and techniques that can be used to guide your thinking and practical planning. You’ll find out how to gather and assess information to help develop your organisation’s strategic vision\, mission and aims\, and how to format your own business plan.     For you if:      	you have recently started a social enterprise or are new to a leadership role   	you are involved in the strategic direction of your organisation   	you have grown your enterprise without formal planning and would now like to learn how to do this is effectively     Fee:    This course is fully funded and there is no charge to participants    Dates:    This workshop is currently being delivered ONLINE via Zoom:    Wednesday 6th April 2022 - 1.00 pm to 4.00 pm
URL;VALUE=URI:https://staging.justenterprise.org/events/event/introduction-to-business-planning/
SUMMARY:Introduction to Business Planning
DTSTART:20220406T120000Z
RDATE:20220406T130000Z;
END:VEVENT
END:VCALENDAR
