BEGIN:VCALENDAR
VERSION:2.0
PRODID:-//DIGITAL FACTORY//EVENTS MAKER V1.6.14//EN
CALSCALE:GREGORIAN
BEGIN:VEVENT
DTEND:20200520T110000Z
UID:69ec95cb71c60
DTSTAMP:20260425T102203Z
CATEGORIES:Ethnic Minorities
DESCRIPTION:Join other aspiring EM entrepreneurs to learn about Social Enterprise    ...What is a Social Enterprise?    ... How is it different to a regular business?    ...Is it the business model for you?    Delivered to small groups in an informal and interactive format\, you will have the chance to learn about the basic elements of social enterprise\, discuss new concepts with the group\, ask questions and hear about some outstanding examples of BAME social enterprise successes in Scotland.    &nbsp\;    This workshop is for you if are from an BAME background and     	Are interested in knowing more about social enterprise.   	You want your business to support your community\, environment or both.   	You have an idea but are not sure what business model would best suit.    This session will be delivered using Zoom. No prior experience of Zoom is required.    Fee:    This course is fully funded and there is no charge to participants
URL;VALUE=URI:https://staging.justenterprise.org/events/event/intro_to_social_enterprise/
SUMMARY:Introduction to Social Enterprise for BAME communities
DTSTART:20200520T090000Z
RDATE:20200520T100000Z;
END:VEVENT
END:VCALENDAR
