BEGIN:VCALENDAR
VERSION:2.0
PRODID:-//DIGITAL FACTORY//EVENTS MAKER V1.6.14//EN
CALSCALE:GREGORIAN
BEGIN:VEVENT
DTEND:20200730T140000Z
UID:69ea454b3b7ee
DTSTAMP:20260423T161403Z
CATEGORIES:Growing your organisation\,No date
LOCATION:online 
DESCRIPTION:If you've decided that you want to start selling goods or services online\, this workshop can help you get off to a flying start.    Successful e-commerce is more than just building a website. You need to consider platforms\, postage and packing\, distance selling regulations as well as customer service and marketing.    In this practical course\, we will share a road map to successfully selling online and signpost you to other help and resources    For you if:      	Your organisations understand the risks and benefits of selling online   	You are ready to move into online trading\, or are early stage   	You want to understand the practical steps to consider when launching an e-commerce business   	You work or volunteer with a charity or social enterprise    If you have not yet considered if e-commerce is right fr your organisation and if you have the skills and capacity\, we recommend you attend our Introduction to E-Commerce first.    Fee:    This course is fully funded and there is no charge to participants    Dates    tbc
URL;VALUE=URI:https://staging.justenterprise.org/events/event/intermediate-e-commerce/
SUMMARY:Intermediate E-Commerce: Roadmap
DTSTART:20200730T090000Z
RDATE:20200730T100000Z;
END:VEVENT
END:VCALENDAR
