BEGIN:VCALENDAR
VERSION:2.0
PRODID:-//DIGITAL FACTORY//EVENTS MAKER V1.6.14//EN
CALSCALE:GREGORIAN
BEGIN:VEVENT
DTEND:20220223T085152Z
UID:69ec97390fb7e
DTSTAMP:20260425T102809Z
CATEGORIES:Growing your organisation\,No date\,Strengthening Your Organisation
DESCRIPTION:Every Board or Management Committee Member/Trustee has a duty to ensure that good financial management is being carried out by their organisation. It is not just the responsibility of the Chair and the Treasurer – it is one of the central responsibilities of Trustees. Good financial management is the efficient and effective management of an organisation’s resources (money\, physical assets\, people and intellectual property) in order to accomplish the organisation’s objectives. The purpose of this workshop is to have a better understanding of the financial reporting information produced by the organisation.    Areas covered in the Session:     	Legal obligations – what are the legal responsibilities of Board Members/Trustees in relation to Finance (financial management v financial responsibility   	Statutory Accounts – what format do Statutory Accounts take\; Financial Statements – Income &amp\; Expenditure\, Balance Sheet\; the link between the 2 main Statements\; what to look out for in the main Statements and Supplementary Information   	Management Accounts – Income &amp\; Expenditure\, Cash Flow\; the link between the 2 Statements\; How to format Management Accounting information\; what to look out for in the main Statements    For you if:     	you are or will be involved in the budgeting process    	you need to learn budgeting skills   	you need to include budgets and financial planning in funding applications    Fee:    This course is fully funded and there is no charge to participants    Dates:    TBC
URL;VALUE=URI:https://staging.justenterprise.org/events/event/financial-statements/
SUMMARY:Understanding Financial Statements
DTSTART:20220223T085152Z
RDATE:20220223T085152Z;
END:VEVENT
END:VCALENDAR
