BEGIN:VCALENDAR
VERSION:2.0
PRODID:-//DIGITAL FACTORY//EVENTS MAKER V1.6.14//EN
CALSCALE:GREGORIAN
BEGIN:VEVENT
DTEND:20200428
UID:69ea5f3edaea2
DTSTAMP:20260423T180446Z
CATEGORIES:No date\,Strengthening Your Organisation
DESCRIPTION:All social enterprises\, no matter their size or scale\, must be able to keep their  financial management systems in good working order. Indeed\, when it comes to business planning\, strategic development and management\, all third sector organisations involved in trade or enterprise need to be able to present accurate financial information to their management committee\, board of directors or trustees.    This 2-day course introduces a range of practical financial solutions that you can use to ensure your organisation is operating within a framework of robust financial procedures. Over the two days you will be introduced to the kinds of financial controls\, procedures and reports that your organisation will need to provide accurate and up-to-date financial information. Topics covered will include bank reconciliations\, financial controls and statements\, constructing a budget\, costing and pricing and financial ratios.    Please Note: Day 2 of this course contains material covered by our Costing &amp\; Pricing workshop     For you if:      	     	you are responsible for managing the financial position of your organisation   	your day to day duties include finance   	you have budgetary responsibility for services and/or products   	you need to understand the financial position of your organisation        Fee:    This course is fully funded and there is no charge to participants
URL;VALUE=URI:https://staging.justenterprise.org/events/event/finance-for-practitioners/
SUMMARY:Finance for Practitioners
DTSTART:20200420
RDATE:20200421T000000Z;
END:VEVENT
END:VCALENDAR
