BEGIN:VCALENDAR
VERSION:2.0
PRODID:-//DIGITAL FACTORY//EVENTS MAKER V1.6.14//EN
CALSCALE:GREGORIAN
BEGIN:VEVENT
DTEND:20220303
UID:69ec9471d2ff6
DTSTAMP:20260425T101617Z
CATEGORIES:Leadership\,No date
DESCRIPTION:This fully funded programme is specifically designed for individuals who want to drive their social enterprise from start up to the next stage. During the programme delegates will gain a deeper understanding of themselves and learn how they can develop their leadership skills effectively.      The programme also provides an invaluable opportunity for peer learning with other social entrepreneurs within the group. Additionally\, invited guests will share advice and expertise\, providing an opportunity for the individual social entrepreneurs to explore common challenges and effective ways to address those challenges.    For you if:     	you are a founder or leader of a social enterprise   	you are thinking of starting a social enterprise   	you have recently started a social enterprise   	you work for a charity which is looking to develop a trading initiative    Delivery:    This Programme will be delivered online. It will consist of an initial 1/2 day introduction session followed by 5 x 2-day modules. Participants must be able to commit to attending all dates.    Dates:    The programme commencing November 2021 is now fully subscribed.    To register your interest in future programmes please send an email to leadership@staging.justenterprise.org    Cost:    This programme is funded via Scottish Government and has no fee attached for attending.
URL;VALUE=URI:https://staging.justenterprise.org/events/event/developing-social-enterpreneurs/
SUMMARY:Developing Social Entrepreneurs
DTSTART:20211110
RDATE:20211110T000000Z;
END:VEVENT
END:VCALENDAR
