BEGIN:VCALENDAR
VERSION:2.0
PRODID:-//DIGITAL FACTORY//EVENTS MAKER V1.6.14//EN
CALSCALE:GREGORIAN
BEGIN:VEVENT
DTEND:20200402
UID:69ea72b14c585
DTSTAMP:20260423T192745Z
CATEGORIES:No date\,Strengthening Your Organisation
DESCRIPTION:If you want to make sure your that your social enterprise can recover costs and pitch services and/or product prices at the right level\, it is essential to know exactly what your services actually cost. Learning how to set your prices properly not only makes sure that you’re covering everything you’ve spent\, but helps you predict your future finances\, and perhaps make a decent profit too.     In this Just Enterprise  workshop you’ll learn how to accurately cost your services or products on a full cost recovery basis. Building on this method\, the workshop will then demonstrate how to set appropriate prices\, and you’ll be introduced to a variety of techniques which you can use in your organisation’s own product pricing.    For you if:      	you are a founder or leader of a social enterprise   	you have recently started a social enterprise   	you are a service manager who now has to tender for the service or enter into a Service Level Agreement to deliver the service   	you work for a Charity which is looking to develop a trading arm    Fee:    This course is fully funded and there is no charge to participants
URL;VALUE=URI:https://staging.justenterprise.org/events/event/costing-pricing/
SUMMARY:Costing &amp\; Pricing
DTSTART:20200402
RDATE:20200403T000000Z;
END:VEVENT
END:VCALENDAR
