BEGIN:VCALENDAR
VERSION:2.0
PRODID:-//DIGITAL FACTORY//EVENTS MAKER V1.6.14//EN
CALSCALE:GREGORIAN
BEGIN:VEVENT
DTEND:20220421T113000Z
UID:69ea2f49b580e
DTSTAMP:20260423T144009Z
CATEGORIES:Growing your organisation\,Strengthening Your Organisation
DESCRIPTION:During this session participants will explore the law and how it applies to charity trading. You’ll discover what kinds of trading are permissible for charities\, and how you can carry out non-charitable trading and still stay on the right side of the law.    The session will include information about the legal implications of trading as a charity\, and when it is appropriate or legally necessary to set up a trading arm for your organisation. We are currently delivering all our workshops ONLINE via Zoom.     For you if:     	you work or volunteer for a charity which trades   	you work or volunteer for a charity and would like to trade but aren’t sure what you can and can’t do within the law   	you want to understand the implications of trading for charities    Dates:    Thursday 21st April 2022 - 11.00 am to 12.30 pm    Fee:    This course is fully funded and there is no charge to participants
URL;VALUE=URI:https://staging.justenterprise.org/events/event/charitable-trading/
SUMMARY:Charitable Trading
DTSTART:20220421T100000Z
RDATE:20220421T110000Z;
END:VEVENT
END:VCALENDAR
