BEGIN:VCALENDAR
VERSION:2.0
PRODID:-//DIGITAL FACTORY//EVENTS MAKER V1.6.14//EN
CALSCALE:GREGORIAN
BEGIN:VEVENT
DTEND:20220207T123000Z
UID:69ea2e37109a4
DTSTAMP:20260423T143535Z
CATEGORIES:No date\,Start Up
DESCRIPTION:An essential element in starting a social enterprise is in managing your finances effectively - controlling the flow of money in and out.    This 2 hour introductory workshop will highlight the importance of monitoring and planning\, considering additional income streams and sources and the need to demonstrate both the viability and the sustainability of your social enterprise.    For you if:      	you are in the early stages of developing your social enterprise    NOT for you if:     	you are a not a pre-start or early start up social enterprise    Dates:    TBC    Fee:    This course is fully funded and there is no charge to participants    You may also be interested in our follow up 'Finance' webinars for start ups:    Finance - Build a Cashflow    Finance - Book Keeping
URL;VALUE=URI:https://staging.justenterprise.org/events/event/cash-flow-forecasting/
SUMMARY:Start Up Workshop - Finance
DTSTART:20220207T103000Z
RDATE:20220207T103000Z;
END:VEVENT
END:VCALENDAR
