BEGIN:VCALENDAR
VERSION:2.0
PRODID:-//DIGITAL FACTORY//EVENTS MAKER V1.6.14//EN
CALSCALE:GREGORIAN
BEGIN:VEVENT
DTEND:20220324T123000Z
UID:69ea9c2f3fc4c
DTSTAMP:20260423T222447Z
CATEGORIES:No date
DESCRIPTION:Business planning within the context of community led social enterprise has a range of wider factors to consider such as community involvement\, sense of 'place'\, available assets and priority issues. Community led social enterprises can also vary considerably - for example from running a local hall with minimal turnover to managing a range of assets\, from renewables to land.    Specifically developed for those working or volunteering within community led social enterprises\, this workshop will provide an overview of the range of elements that can assist in building a strong business plan with links and information on accessible supplementary resources and tools to support ongoing planning\, delivery and development.    This workshop will be delivered virtually over 2 x half day sessions (participants must be able to attend BOTH sessions) which will be fully interactive and draw on participants' own experiences. Topics covered will include: Defining Your Community\, Engagement Needs and Opportunities\, Stakeholder Engagement\, Social Impact\, Understanding Your Market\, Roles &amp\; Responsibilities\, Financial Planning\, Business Planning Tools\, delivery and review.    For you if:      	you are engaged in community led social enterprise   	you are involved in the strategic direction of your organisation    Fee:    This course is fully funded and there is no charge to participants    Dates:    Thursday 24th March &amp\; Thursday 31st March 2022 - 10.00 am to 12.30 pm (both days)
URL;VALUE=URI:https://staging.justenterprise.org/events/event/business-planning-community-led/
SUMMARY:Business Planning for Community Led Social Enterprise
DTSTART:20220324T100000Z
RDATE:20220324T100000Z;
END:VEVENT
END:VCALENDAR
