BEGIN:VCALENDAR
VERSION:2.0
PRODID:-//DIGITAL FACTORY//EVENTS MAKER V1.6.14//EN
CALSCALE:GREGORIAN
BEGIN:VEVENT
DTEND:20220524T143000Z
UID:69ea479379ff9
DTSTAMP:20260423T162347Z
CATEGORIES:Strengthening Your Organisation
DESCRIPTION:In enterprise it’s critical to know how to manage money\, in fact budgeting is the cornerstone of any organisation’s financial planning and reporting. A well prepared budget is an essential tool for demonstrating your organisation’s financial competence to your board\, and to potential funders.     This practical workshop will teach you how to construct both an income &amp\; expenditure budget and a cash flow budget\, and will highlight the differences between them. During the course you will also explore and discuss key budget issues and will have the opportunity to ask budgeting questions relevant to your organisation. Further practical leaning will include how to adapt your budget for use in a funding application.     For you if:     	you are or will be involved in the budgeting process   	you need to learn budgeting skills   	you need to include budgets and financial planning in funding applications    Fee:    This course is fully funded and there is no charge to participants    Dates:    Tuesday 24th May 2022 - 1.30 pm to 3.30 pm
URL;VALUE=URI:https://staging.justenterprise.org/events/event/budgeting-for-your-organisation-and-funding-applications/
SUMMARY:Budgeting for your organisation
DTSTART:20220524T123000Z
RDATE:20220524T133000Z;
END:VEVENT
END:VCALENDAR
