BEGIN:VCALENDAR
VERSION:2.0
PRODID:-//DIGITAL FACTORY//EVENTS MAKER V1.6.14//EN
CALSCALE:GREGORIAN
BEGIN:VEVENT
DTEND:20220203T150000Z
UID:69ea2ee933b41
DTSTAMP:20260423T143833Z
CATEGORIES:No date\,Start Up
LOCATION:online 
DESCRIPTION:This 2 hour workshop will look at understanding the role of marketing\, understanding the marketing mix\, the importance of understanding your customers\, the core components of a brand and the value of a strong and consistent branding.    For you if:      	you have a great social enterprise idea or are in the early stages of trading and need to know more about branding and marketing techniques   	you are looking to develop a strong brand which reflects the values and purpose of your social enterprise.   	you want to learn more about strategies which will help you reach and keep customers or clients    Dates:     TBC    Fee:    This course is fully funded and there is no charge to participants  Book your place below or find out more about other support available including one to one support here  You may also be interested in our follow up 'Marketing' webinars for start ups:    Marketing - Intro to Market Research    Marketing - Steps to creating a Marketing Strategy    Marketing - Marketing Your Business
URL;VALUE=URI:https://staging.justenterprise.org/events/event/branding-and-marketing/
SUMMARY:Start Up Workshop - Introduction to Branding &amp\; Marketing
DTSTART:20220203T130000Z
RDATE:20220203T130000Z;
END:VEVENT
END:VCALENDAR
