BEGIN:VCALENDAR
VERSION:2.0
PRODID:-//DIGITAL FACTORY//EVENTS MAKER V1.6.14//EN
CALSCALE:GREGORIAN
BEGIN:VEVENT
DTEND:20220428
UID:69ea5599e30a7
DTSTAMP:20260423T172337Z
CATEGORIES:Leadership\,No date
DESCRIPTION:In this six day programme\, third sector staff who are new to leadership and people management will be provided with the opportunity to develop their knowledge of leadership roles and theories\, and build confidence in their own ability to lead projects and manage staff teams.    The programme focuses on the kinds of leadership required for changing times and a challenging climate. Sessions will develop core leadership skills including self-awareness\, how to motivate and empower others\, and engage in positive conversations. The insights gained during the programme will build confidence to help you step up in your leadership role to make a greater contribution to the effective running of your organisation.    For you if:      	you are new to a management or leadership role   	you aspire to step into management and leadership roles   	you'd like to learn how to lead in an enterprising way to strengthen your organisation    Delivery:    This programme will be delivered online via 3 x 2-day modules. Participants must be able to commit to attending all dates.    Dates:    The programme starting February 2022 is now fully subscribed.    To register your interest in future Aspiring Leaders programmes please email leadership@staging.justenterprise.org    Cost:    Heavily subsidised by Scottish Government\, this 6 day programme has a fee of £100 per delegate.
URL;VALUE=URI:https://staging.justenterprise.org/events/event/aspiring-new-leaders/
SUMMARY:Aspiring or New Leaders
DTSTART:20220216
RDATE:20220216T000000Z;
END:VEVENT
END:VCALENDAR
